BEGIN:VCALENDAR
VERSION:2.0
PRODID:-//Stadtgeschichte München//DE
CALSCALE:GREGORIAN
BEGIN:VEVENT
UID:11389@stadtgeschichte-muenchen.de
SUMMARY:Die Diakonie Hasenbergl e.V. im Münchner Norden
DESCRIPTION:Niemand wird weggeschickt! Das ist das ehrgeizige, ernst gemeinte Motto in der Geschäftsstelle der Diakonie Hasenbergl am Stanigplatz. Das Gebäude mit der Aufschrift „Grüß Gott\" ist vielen Menschen be- kannt. 1964 gründete Pfarrer Otto Steiner den Verein, damals unter dem Namen Sozialer Beratungsdienst. Inzwischen ist die Diakonie Hasenbergl mit rund 50 Projekten in ganz München vertreten. In einer Radtour werden einige Einrichtungen vorgestellt. Im Rahmen der Kutturtage im Stadtbezirk 24 Feldmoching-Hasenbergl.
DTSTART:20160715T000013
DTEND:20160715T000016
LOCATION:U-Bahnhof Hasenbergl, vordem Kultur- zentrum 2411 • Blodigstr. 4
ORGANIZER:MVHS München Nord
END:VEVENT
END:VCALENDAR