BEGIN:VCALENDAR
VERSION:2.0
PRODID:-//Stadtgeschichte München//DE
CALSCALE:GREGORIAN
BEGIN:VEVENT
UID:11392@stadtgeschichte-muenchen.de
SUMMARY:Der Petuelpark mit dem Generationengarten
DESCRIPTION:Nach Fertigstellungd es Petueltunnels 2002 entstand unter Beteiligung der Bürgerinnen und Bürger auf 74.000 qm der barrierefreie Petuelpark, der sich auf 900 m Länge von Ost nach West erstreckt. Im Juni 2004 wurde der Park eröffnet, im Sommer 2005 - gleichzeitig zur BUGA - auch der interkulturelleG enerationengarten mit Pavillon und das Cafe Ludwig. Beim Spaziergang durch Garten und Park werden Sie sowohl das Grünkonzept der Landschaftsarchitekten als auch das Kunstkonzept mit 13 Werken internatronaler Künstlerinnen und Künstler kennenlernen. Wenn Sie einen Gebärdensprachdolmetscher benötigen, senden Sie bitte ein E-Mail an barrierefrei-lernen@mvh.dse.
DTSTART:20160724T140000
DTEND:20160724T153000
LOCATION:im Petuelpark vor dem Cafe Ludwig· Klopstockstr . 10
ORGANIZER:MVHS München Nord
END:VEVENT
END:VCALENDAR