BEGIN:VCALENDAR
VERSION:2.0
PRODID:-//Stadtgeschichte München//DE
CALSCALE:GREGORIAN
BEGIN:VEVENT
UID:11416@stadtgeschichte-muenchen.de
SUMMARY:Wohnen in Neuperlach - lebenswerte „Trabantenstadt\"?
DESCRIPTION:Auf ehemals grünen Fluren entstand über einen Zeitraum von 25 Jahren der Stadtteil Neuperlach. Wir begehen und durchfahren die architektonischeV ielfalt der einzelnenB auabschnitted iesesS tadtviertels, das immer noch als „Trabantenstadt\" wahrgenommen wird. FrühereP lanungenu nd die GeschichteN euperlachsw erden thematisiert. Alles im allem kann man hier im ausgewogenen Nebeneinander Flächenz um Arbeiten und Wohnen sowie grüne Freiräumef ür Erholung und Freizeit finden. Die Route: Quiddestraße, Einkaufszentrum Life, Neuperlach-ZentrumW, ohnring, PEPu nd Perlach-Süd. Bitte für die Busfahrt eine MW-Karte mitbringen.
DTSTART:20160608T180000
DTEND:20160608T200000
LOCATION:Dorfbrunnen am Pfanzeltplatz
ORGANIZER:MVHS München Ost
END:VEVENT
END:VCALENDAR