BEGIN:VCALENDAR
VERSION:2.0
PRODID:-//Stadtgeschichte München//DE
CALSCALE:GREGORIAN
BEGIN:VEVENT
UID:11418@stadtgeschichte-muenchen.de
SUMMARY:Dynamo Fahrradservice Biss e. V.
DESCRIPTION:Schon im Gründungsjahr 1986 war Dynamo Nachhaltigkeits-Pionier: ökologischd urch Förderung des Radverkehrs, ökonomisch durch Recycling und sozial durch Förderung des zweiten Arbeitsmarktes.&nbsp;Heute hat der gemeinnützige Verein die Förderung, berufliche Qualifizierung, Bildung und Arbeitsplatzbeschaffung von langzeitarbeitslosen und benachteiligten Menschen zum Ziel. Dynamo kooperiert eng mit der Münchner Straßenzeitschrift BISS und dem jungen Gemeinschaftsprojekt PULPO. A lte Fahrradschläuche werden recycelt&nbsp;und zu exklusiven Taschen und Accessoiresv erarbeitet, unter Berücksichti ung der soziale Nachhaltigkeit und des aktiven Umweltschutzes, eines kreativen Arbeitsklimas und einer hohen Qualität der Produkte.
DTSTART:20160428T150000
DTEND:20160428T163000
LOCATION:Treffpunkt: Dynamo Fahrradservice Bisse. V., vor dem Eingang · Haager Str. 11
ORGANIZER:MVHS München Ost
END:VEVENT
END:VCALENDAR