BEGIN:VCALENDAR
VERSION:2.0
PRODID:-//Stadtgeschichte München//DE
CALSCALE:GREGORIAN
BEGIN:VEVENT
UID:11421@stadtgeschichte-muenchen.de
SUMMARY:Rundgang durch Alt-Bogenhausen zwischen Bad Brunnthal
DESCRIPTION:&lt;p&gt;Ausgangspunkt ist die Max-Joseph-Brücke, gleich in der Nähe von Bad Brunnthal, dessen Name auf eine historische Bade-und Heilanstalt zurückgeht. Vom Neuberghauser Schlössl beim heutigen Bogenhauser Kirchplatz gibt es keine Spuren mehr. Dafür werfen wir einen Blick in die Kirche St. Georg mit Friedhof, Ruhestätte bekannter Persönlichkeiten. Auf dem Weg liegen auch das Denkmal von Montgelas und Sckell, eine Treppenanlage von Drollinger (1909), die Lauer-Villa und der Bundesfinzanzhot (ehern. Fleischer-Villa), die ehemalige Betz\'sche Wirtschaft sowie der&amp;nbsp;Bürgermeistergarten.&lt;/p&gt; 
DTSTART:20160625T140000
DTEND:20160625T160000
LOCATION:Ecke Neuberghauser-/Montgelasstr. Nähe Max-Joseph-Brücke
ORGANIZER:MVHS München Ost
END:VEVENT
END:VCALENDAR