BEGIN:VCALENDAR
VERSION:2.0
PRODID:-//Stadtgeschichte München//DE
CALSCALE:GREGORIAN
BEGIN:VEVENT
UID:11422@stadtgeschichte-muenchen.de
SUMMARY:Vom Friedensengel zum Bogenhauser Friedhof und zurück
DESCRIPTION:Unser Weg führt uns vom Friedensengel durch die Grünanlagen am lsarhochufer zur Pfarrkirche St. Georg mit dem Alten Bogenhauser Friedhof, Ruhestätte alteingesessener Familien und prominenter Persönlichkeiten. Weiter geht es durch das alte Bogenhausen mit seinen Villen im Historismus der Gründerzeit und im Jugendstil, der wesentlich durch das Ornament bestimmt wurde. Im Zweiten Weltkrieg kaum beschädigt, haben sie ihren Charakter weitgehend erhalten. Ziel ist die Villa Stuck beim Friedensengel.&nbsp;
DTSTART:20160725T170000
DTEND:20160725T190000
LOCATION:Europaplatz (Friedensengel am Monument)
ORGANIZER:MVHS München Ost
END:VEVENT
END:VCALENDAR