BEGIN:VCALENDAR
VERSION:2.0
PRODID:-//Stadtgeschichte München//DE
CALSCALE:GREGORIAN
BEGIN:VEVENT
UID:11423@stadtgeschichte-muenchen.de
SUMMARY:Der Münchner Friedensengel: Geflügelter Genius mit Ölzweig und Palladion
DESCRIPTION:Auf dem lsarhochufer erhebt sich auf einer 23 m hohen kannelierten korinthischen Säule über einer - mit Mosaiken geschmückten - Korenhalle der „Friedensengel\". Vorbild der Nikefigur war eine 50 cm hohe Statuette aus Pompeji aus dem ersten vorchristlichen Jahrhundert. Gemeinsam betrachten wir das zwischen 1896 und 1899 realisierte Denkmal über der Prinzregent-Luitpold-Terrassen und gehen seiner Entstehung und Bedeutung als Bindeglied zwischen der inneren und äußeren Prinzregentenstraße nach. Mit einem kunsthistorischen Abstecher und Blick auf die Villa Stuck.&nbsp;
DTSTART:20160430T110000
DTEND:20160430T130000
LOCATION:Europaplatz( Friedensengel am Monument)
ORGANIZER:MVHS München Ost
END:VEVENT
END:VCALENDAR