BEGIN:VCALENDAR
VERSION:2.0
PRODID:-//Stadtgeschichte München//DE
CALSCALE:GREGORIAN
BEGIN:VEVENT
UID:11426@stadtgeschichte-muenchen.de
SUMMARY:Englschalking - alter Ortskern und „Wagnerviertel
DESCRIPTION:Die Führung beginnt bei der Kirche St. Nikolaus, im Ortskern von Englschalkingm it Beschreibungd er Kirche,d es alten Dorfkerns,d es Friedhofs und der Eingemeindung der Dörfer auf dem Ziegelland nach München am 1.1.1930. Auf einem Rundgang um den Rienziplatz wird die ehemaligeB ebauungssituationin den 1920er und 1930er Jahren beschrieben. Das sogenannte „ Wagnerviertel\" erklärt sich durch die Benennung der Straßen zum Wagner-Jubiläumsjahr · 1933 (120. Geburtsjahr, 50. Todesjahr).
DTSTART:20160429T150000
DTEND:20160429T163000
LOCATION:St. Nikolaus in Englschalking· vor der Kirche, Waffenschmiedstr. 1
ORGANIZER:MVHS München Ost
END:VEVENT
END:VCALENDAR