BEGIN:VCALENDAR
VERSION:2.0
PRODID:-//Stadtgeschichte München//DE
CALSCALE:GREGORIAN
BEGIN:VEVENT
UID:11435@stadtgeschichte-muenchen.de
SUMMARY:Giesing von unten nach oben
DESCRIPTION:Entdecken Sie Giesinga ls ehemaliges Arbeiter-und Handwerkerviertel und als modernes Stadtquartier. Der erste industrielle Großbetrieb vor Ort, die Mayersche Lederfabrik, war in Untergiesing - erhalten sind charakteristische Arbeiterwohnungen („Herbergen“). Oben am Berg ragen die evangelische Lutherkirche und die katholische Heilig Kreuz- Kirche empor, dahinter findet sich das geschütze Ensemble der Feldmüllersiedlung. Östlich der Tegernseer Landstraße zeigt sich ein Stadtteil im ständigen Wandel. Ausklang nach Wunsch in einem Wirtshaus.
DTSTART:20160710T110000
DTEND:20160710T130000
LOCATION:vor dem Alten- und Service-Zentrum (UI/ U2 Kolumbusplatz) Kolumbusstr. 33
ORGANIZER:MVHS München Ost
END:VEVENT
END:VCALENDAR