BEGIN:VCALENDAR
VERSION:2.0
PRODID:-//Stadtgeschichte München//DE
CALSCALE:GREGORIAN
BEGIN:VEVENT
UID:11438@stadtgeschichte-muenchen.de
SUMMARY:Was ist eigentlich eine Gartenstadt?
DESCRIPTION:Eine „echte Gartenstadt\" - im Sinne der Gartenstadtbewegung von Ebenezer Howard - einst am Perlacher Forst vorgesehen, wurde nie realisiert. 1893 hatte der Bauunternehmer Jakob Heilmann das 171 Hektar große Gut Harlaching erworben. Drei Jahre später kaufte das Baugeschäft Heilmann &amp; Littmann auch das ehemalige Gut Harthausen. Hier entstanden die Villenkolonien Harlaching und Menterschwaige. Auf dem Rundgang werden die Unterschiede zwischen einer „echten Gartenstadt\" und einer Villenkolonie sowie die fortschreitende Zerstörung durch Neubauten und Nachverdichtung thematisiert.&nbsp;
DTSTART:20160709T140000
DTEND:20160709T170000
LOCATION:St Anna (an der Hochleite) · Harlachinger Berg 30
ORGANIZER:MVHS München Ost
END:VEVENT
END:VCALENDAR