BEGIN:VCALENDAR
VERSION:2.0
PRODID:-//Stadtgeschichte München//DE
CALSCALE:GREGORIAN
BEGIN:VEVENT
UID:11439@stadtgeschichte-muenchen.de
SUMMARY:Vom Athener Platz über den Griechenplatz zum Weißenseepark
DESCRIPTION:Auf unserer Route durch Harlaching und Giesing reihen sich verschiedene grüne Oasen wie Stadtplatz, Grünzug und Park aneinander. Bei der Führung werden sowohl deren Gestaltung und städtebauliche Qualitäten erläutert als auch Wissenswertes über die dort vorkommenden Bäume und Sträucher vermittelt der Athener Platz mit seiner umlaufenden Lindenallee hat trotz seiner Kleinteiligkeit einen großzügigen Promenadencharakter. Über den St-Quirin-Platz, am Hohen Weg entlang, gelangt man zum Grünzug Kuntersweg. Ziel ist der überplante und für das angrenzende neue Wohnquartier wichtige Weißenseepark.&nbsp;
DTSTART:20160626T110000
DTEND:20160626T130000
LOCATION:Athener Platz/Ecke Athener Str.
ORGANIZER:MVHS München Ost
END:VEVENT
END:VCALENDAR