BEGIN:VCALENDAR
VERSION:2.0
PRODID:-//Stadtgeschichte München//DE
CALSCALE:GREGORIAN
BEGIN:VEVENT
UID:11443@stadtgeschichte-muenchen.de
SUMMARY:Den Auer Mühlbach entlang
DESCRIPTION:&lt;p&gt;Früher war er die Lebensader ganzer Siedlungen, von Gewerbe-und Industriebetrieben. Schon im Mittelalter regulierte man den Bach, um seine Wasserkraft zu nutzen. An seinen Ufern entstanden die ersten Sozialeinrichtungen Giesings, wie das ehemalige Hofkrankenhaus, die spätere „Giesinger Irrenanstalt&quot;. Wir entdecken wir ein altes Herbergshäusl, das biedermeierliche Häuser-Ensemble&amp;nbsp;„Klein-Venedig“ , ein privates Kraftwerk, das imposante - leider nicht zugängliche - Kloster des ehemaligen Templer-Ritterordens und das Areal der Kraemer\'schen Kunstmühle.&amp;nbsp;&lt;/p&gt; &lt;p&gt;Möglichkeit zur Einkehr im Caffe Fausto.&lt;/p&gt; 
DTSTART:20160804T180000
DTEND:20160804T200000
LOCATION:vor dem Alten- und ServiceZentrum (U1/U2 Kolumbusplatz) · Kolumbusstr.33
ORGANIZER:MVHS München Ost
END:VEVENT
END:VCALENDAR