BEGIN:VCALENDAR
VERSION:2.0
PRODID:-//Stadtgeschichte München//DE
CALSCALE:GREGORIAN
BEGIN:VEVENT
UID:11447@stadtgeschichte-muenchen.de
SUMMARY:Top-Events - made in Giesing
DESCRIPTION:Mitten in Giesing arbeitet eine der innovativsten Veranstaltungsagenturen Münchens. Holleschek und Schlick (h+s) haben sich mit Tagungen, Präsentationen, Messen, Modenschauen, Jubiläen und Hochzeitsfeiern in außergewöhnlichen Locations einen Namen gemacht. Mit Veranstaltungen wie den Hörgängen, Kooperationen mit den Münchner Philharmonikern, einem Kurzgeschichtenwettbewerb und legendären Parties hat sich h+s aber auch längst als wichtiger Teil der Münchner Kulturszene etabliert. Otger Holleschek lädt zu einem exklusiven Blick hinter die Kulissen ein.&nbsp;
DTSTART:20160629T170000
DTEND:20160629T183000
LOCATION:h · s veranstaltungen GmbH· Martin-Luther-Str. 2
ORGANIZER:MVHS München Ost
END:VEVENT
END:VCALENDAR