BEGIN:VCALENDAR
VERSION:2.0
PRODID:-//Stadtgeschichte München//DE
CALSCALE:GREGORIAN
BEGIN:VEVENT
UID:11449@stadtgeschichte-muenchen.de
SUMMARY:Zu Besuch beim Tierschutzverein München e.V und im Tierheim München-Riem
DESCRIPTION:Der 1842 gegründetet Tierschutzverein gehört zu den größten Tierschutzvereinen Europas und ist führend in der nationalen und internationalen Tierschutzbewegung. Seit 1956 betreibt und finanziert der Münchner Tierschutzverein mit rund 50 festen Mitarbeiter(inne)n, zahlreichen Förderern und ehrenamtlichen Helfer/innen das Tierheim an der Riemer Straße. Rund 8500 Haus-, Wild- und Nutztiere in Not werden hier jährlich aufgenommen, pflegerisch und tierärztlich versorgt oder an neue Plätze vermittelt. Andere Aufgaben sind die professionelle Beratung und Hilfe zu allen Fragen rund um die Tierhaltung, die Einsätze von Tierinspektoren, Projekte mit Jugendgruppen oder die Hundeschulung. Wie man täglich 700 Tiere versorgt, wie das finanziert wird, wie die Tiere ins Tierheim kommen und wie lange sie bleiben, wird ein Vorstandsmitglied des Tierschutzvereins erklären. Hinweis: Reduzierte Anmeldegebühr, aber das Tierheim freut sich über eine geringe Spende vor Ort.
DTSTART:20160416T140000
DTEND:20160416T160000
LOCATION:Tierheim an der Riemer Str. 270
ORGANIZER:MVHS München Ost
END:VEVENT
END:VCALENDAR