BEGIN:VCALENDAR
VERSION:2.0
PRODID:-//Stadtgeschichte München//DE
CALSCALE:GREGORIAN
BEGIN:VEVENT
UID:11465@stadtgeschichte-muenchen.de
SUMMARY:Durch den Park des lsar-Amper-Klinikums München Ost
DESCRIPTION:Eine Zeitreise in die Vergangenheit und Entwicklung der Psychiatrie „Unberechtigten Zutritt verboten!\" stand auf einem Hinweisschild des Nervenkrankenhauses Haar bis 1970. Dasss ich hier ein einmaliges Ensemble mit kunstgeschichtlichen Besonderheiten zeigt, ist kaum bekannt: die 1905 im Landhausstil gebaute Vorzeigeanstalt Eglfing und die 1912 erbaute Anstalt Haar mit prächtigen Jugendstilgebäuden und einzigartiger Jugendstilkirche&nbsp;umgeben von Gärten mit jahrhundertealten Bäumen. Das Areal Haar II, 2010 an eine Wohnbaugesellschaft verkauft, wird bis 2016 geräumt. Dafür werden in Haar I neue Gebäude errichtet. Hinweis: Der Rundgang dauert drei Stunden mit einer kurzen Kaffeepause, für Gehbehinderte nicht geeignet.&nbsp;
DTSTART:20160723T100000
DTEND:20160723T130000
LOCATION:am Kleinen Theater Haar, Eingang Leibstr. 
ORGANIZER:MVHS München Ost
END:VEVENT
END:VCALENDAR