BEGIN:VCALENDAR
VERSION:2.0
PRODID:-//Stadtgeschichte München//DE
CALSCALE:GREGORIAN
BEGIN:VEVENT
UID:11469@stadtgeschichte-muenchen.de
SUMMARY:Bezirkstagseinrichtungen im Süden
DESCRIPTION:Wie kann Schreibabys geholfen werden? Was ist ein Lokomat? Welche Berufsgruppen arbeiten in einem Sozialpädiatrisches Zentrum und wie sieht der Alltag darin aus? Diese und andere Fragen beantworten wir bei einem Rundgang durch das kbo-Kinderzentrum München, der führenden interdisziplinären Einrichtung, wenn es um die Diagnostik und Therapie von entwicklungsverzögerten und behinderten Kindern und Jugendlichen geht lrmgard Hofmann, Bezirksrätin, informiert zusätzlich über den Bezirk Oberbayern, seine Aufgaben und Unterstützungsmöglichkeiten. Im Rahmen der Stadtteilwoche Hadern
DTSTART:20160627T150000
DTEND:20160627T163000
LOCATION:kbo-Kinderzentrum München · Heiglhofstr. 63
ORGANIZER:MVHS München Süd
END:VEVENT
END:VCALENDAR