BEGIN:VCALENDAR
VERSION:2.0
PRODID:-//Stadtgeschichte München//DE
CALSCALE:GREGORIAN
BEGIN:VEVENT
UID:11480@stadtgeschichte-muenchen.de
SUMMARY:Ein Blick über den Zaun
DESCRIPTION:Sendling hat mit dem Implerplatz, den Grünanlagen rund um den Neuhofer Berg und der Schrebergartenanlage neben dem Alten Israelitischen Friedhof viel Grün zu bieten. Der Rundgang zeigt diese öffentlichen Grünanlagen und einige sehenswerte Höfe und Gärten, die dem Spaziergänger bisher verborgen blieben, auf. Ergibt einen Blickauf bekannte und weniger bekannte grüne Oasen im Münchner Süden.
DTSTART:20160730T150000
DTEND:20160730T170000
LOCATION:Albert-Roßhaupter—Str. 8/Ecke Meindlstr.
ORGANIZER:MVHS München Süd
END:VEVENT
END:VCALENDAR