BEGIN:VCALENDAR
VERSION:2.0
PRODID:-//Stadtgeschichte München//DE
CALSCALE:GREGORIAN
BEGIN:VEVENT
UID:11486@stadtgeschichte-muenchen.de
SUMMARY:Schlachtenlärm und Feldherrnglück
DESCRIPTION:
DTSTART:20160410T140000
DTEND:20160410T000000
LOCATION:Kasse Neues Schloss Schleißheim
ORGANIZER:Bayerische Schlösserverwaltung
END:VEVENT
END:VCALENDAR