BEGIN:VCALENDAR
VERSION:2.0
PRODID:-//Stadtgeschichte München//DE
CALSCALE:GREGORIAN
BEGIN:VEVENT
UID:11497@stadtgeschichte-muenchen.de
SUMMARY:Lion Feuchtwanger
DESCRIPTION:Diese Führung erinnert an den \"Erfolg\"-reichen Autor der \"Geschichte einer Provinz\", der aus München und Deutschland vertrieben wurde &nbsp; Geboren in München als Kind einer jüdischen Familie wird Lion Feuchtwanger zu einem der meistgelesenen deutschen Schriftsteller. Wir entdecken Orte und Schauplätze des Lebens und der Romane des Literaten, der „von Brecht und Hitler aus München vertrieben“ wird, wo er über 40 Jahre lebte.
DTSTART:20160724T110000
DTEND:20160724T130000
LOCATION:St.-Anna-Platz 2
ORGANIZER:STATTreisen München e.V.
END:VEVENT
END:VCALENDAR