BEGIN:VCALENDAR
VERSION:2.0
PRODID:-//Stadtgeschichte München//DE
CALSCALE:GREGORIAN
BEGIN:VEVENT
UID:11498@stadtgeschichte-muenchen.de
SUMMARY:Verführungen durch das Auge
DESCRIPTION:
DTSTART:20160424T110000
DTEND:20160424T123000
LOCATION:Kasse Residenzmuseum 
ORGANIZER:Bayerische Schlösserverwaltung
END:VEVENT
END:VCALENDAR