BEGIN:VCALENDAR
VERSION:2.0
PRODID:-//Stadtgeschichte München//DE
CALSCALE:GREGORIAN
BEGIN:VEVENT
UID:1150@stadtgeschichte-muenchen.de
SUMMARY:Bäume: Tatsachen - Mythen - Märchen - Fakten
DESCRIPTION:&lt;p&gt;B&amp;auml;ume sind zu allen Jahreszeiten faszinierende Gesch&amp;ouml;pfe, &amp;uuml;ber die man eigentlich immer zu wenig wei&amp;szlig;. Heutzutage werden die B&amp;auml;ume oft ausschlie&amp;szlig;lich nach ihrer N&amp;uuml;tzlichkeit beurteilt, wie zum Beispiel Holzertrag oder Reinigungskapazit&amp;auml;t der Luft. Aber das war nicht immer so. Fr&amp;uuml;her waren die B&amp;auml;ume mythische und spirituelle Orte. Bis heute hat sich vieles davon in M&amp;auml;rchen und Geschichten erhalten. Diese F&amp;uuml;hrung soll eine Mischung aus allem sein - aus Tatsachen und Mythen. Dauer: 3 Stunden.&lt;/p&gt; &lt;p&gt;Kooperation mit LBV&lt;/p&gt;
DTSTART:20110916T160000
DTEND:20110916T190000
LOCATION:Scheidplatz (U2, U3), U-Bahnausgang Luitpoldpark, Belgradstraße
ORGANIZER:Munaris - Münchner Natur Reisen
END:VEVENT
END:VCALENDAR