BEGIN:VCALENDAR
VERSION:2.0
PRODID:-//Stadtgeschichte München//DE
CALSCALE:GREGORIAN
BEGIN:VEVENT
UID:11502@stadtgeschichte-muenchen.de
SUMMARY:Der Münchner Hofgarten
DESCRIPTION:
DTSTART:20160430T140000
DTEND:20160430T153000
LOCATION:Kasse Residenzmuseum
ORGANIZER:Bayerische Schlösserverwaltung
END:VEVENT
END:VCALENDAR