BEGIN:VCALENDAR
VERSION:2.0
PRODID:-//Stadtgeschichte München//DE
CALSCALE:GREGORIAN
BEGIN:VEVENT
UID:11516@stadtgeschichte-muenchen.de
SUMMARY:Strukturwandel Fürstenried/Obersendling
DESCRIPTION:Auf dem ehemaligen EON-Gelände, im Umfeld des Sparkassenhochhauses und auf dem Eckgrundstück an der Züricher Straße hat und wird sich vieles städtebaulich wandeln und verändern. Ein weithin sichtbares Zeichen für den Strukturwandel in diesem Gebiet ist bereits die Umwandlung des ehemaligen Heizkraftwerks in das Möbelhaus KARE. Informationen, Planungshintergründe und Vorschau über zukünftige Planungen gibt Hans Bauer, ehemaliger BA-Vorsitzender des BA 19, der sich intensiv mit Bau und Planung beschäftigt.
DTSTART:20160509T183000
DTEND:20160509T200000
LOCATION:Volkshochschule - Forstenrieder Allee 61
ORGANIZER:MVHS München Süd
END:VEVENT
END:VCALENDAR