BEGIN:VCALENDAR
VERSION:2.0
PRODID:-//Stadtgeschichte München//DE
CALSCALE:GREGORIAN
BEGIN:VEVENT
UID:1152@stadtgeschichte-muenchen.de
SUMMARY:„Von Baum zu Baum&quot;
DESCRIPTION:&lt;p&gt;Wir starten in Grafrath, einem Ort mit vielen interessanten B&amp;auml;umen, zu einer Rundtour &amp;uuml;ber Kottgeisering/Maulbeerbaum nach Eching/Bischofsbaum zum Ammersee bei Schondorf/Trompetenb&amp;auml;ume/Mitttagspause und &amp;uuml;ber Windach/alte Linde von &amp;bdquo;Maria am Weg&amp;quot; und Greifenberg/Kreuzlinde wieder zur&amp;uuml;ck nach Grafrath (ca. 40 km). Dauer bis ca. 17 Uhr.&lt;/p&gt; &lt;p&gt;&lt;br /&gt; Treff: S-Bahnhof Grafrath (Wer mit einem Partner-Ticket mitfahren m&amp;ouml;chte, bitte bei mir anrufen!)&lt;br /&gt; &amp;nbsp;&lt;/p&gt;
DTSTART:20110918T100000
DTEND:20110918T170000
LOCATION:S-Bahnhof Grafrath 
ORGANIZER:Munaris - Münchner Natur Reisen
END:VEVENT
END:VCALENDAR