BEGIN:VCALENDAR
VERSION:2.0
PRODID:-//Stadtgeschichte München//DE
CALSCALE:GREGORIAN
BEGIN:VEVENT
UID:11522@stadtgeschichte-muenchen.de
SUMMARY:Die Kurparksiedlung im Wandel der Jahrzehnte
DESCRIPTION:Der Spaziergang durch die Siedlung zeigt von der Entstehungi m Jahr 1931 bis heute die Entwicklung und die Veränderung auf. Die Siedlung hat in den vielen Jahren ihren Wohn- und Gartencharakter überwiegend beibehalten und erfreut als Oase in der Großstadt durch ihre Grünanlagen, der guten Infrastruktur und nicht zuletzt durch das intakte Nachbarschaftsverhältnis. Im Rahmen der Stadtteilwoche Hadern.
DTSTART:20160628T143000
DTEND:20160628T170000
LOCATION:Kreuzung Fürstenrieder/Ecke Ammerseestr., · ehemals Stadtsparkasse· Fürstenriedesrtr. 166
ORGANIZER:MVHS München Süd
END:VEVENT
END:VCALENDAR