BEGIN:VCALENDAR
VERSION:2.0
PRODID:-//Stadtgeschichte München//DE
CALSCALE:GREGORIAN
BEGIN:VEVENT
UID:11543@stadtgeschichte-muenchen.de
SUMMARY:Die Nibelungenstraße - von Neuhausen nach Nymphenburg
DESCRIPTION:Die Nibelungenstraße verbindet Neuhausen und Nymphenburg, gleichzeitig ist sie auch die Trennlinie zwischen dem „proletarischen\" und dem „großbürgerlichen\" Neuhausen. Der Weg führt vom alten Neuhauser Dorfkern fast bis zum Romanplatz. Wenn von den Teilnehmenden gewünscht, ist noch ein Abstecher zum „Kurgarten\" in der De-la-Paz-Straße möglich. . In Zusammenarbiet mit der Geschichtswerkstatt Neuhausen e.V.&nbsp;
DTSTART:20160731T140000
DTEND:20160731T160000
LOCATION:vor dem Postamt · Winthirstr. 4
ORGANIZER:MVHS München West
END:VEVENT
END:VCALENDAR