BEGIN:VCALENDAR
VERSION:2.0
PRODID:-//Stadtgeschichte München//DE
CALSCALE:GREGORIAN
BEGIN:VEVENT
UID:11570@stadtgeschichte-muenchen.de
SUMMARY:Kurfürst Max Emanuel und das »Cabinet des Tableaux Holandois et Flamands«
DESCRIPTION:Die Liebe zur niederländischen Malerei
DTSTART:20160515T140000
DTEND:20160515T000000
LOCATION:Kasse Neues Schloss Schleißheim
ORGANIZER:Bayerische Schlösserverwaltung
END:VEVENT
END:VCALENDAR