BEGIN:VCALENDAR
VERSION:2.0
PRODID:-//Stadtgeschichte München//DE
CALSCALE:GREGORIAN
BEGIN:VEVENT
UID:11579@stadtgeschichte-muenchen.de
SUMMARY:Im Zeichen der Gegenreformation
DESCRIPTION:
DTSTART:20160529T110000
DTEND:20160529T000000
LOCATION:Kasse Residenzmuseum 
ORGANIZER:Bayerische Schlösserverwaltung
END:VEVENT
END:VCALENDAR