BEGIN:VCALENDAR
VERSION:2.0
PRODID:-//Stadtgeschichte München//DE
CALSCALE:GREGORIAN
BEGIN:VEVENT
UID:11580@stadtgeschichte-muenchen.de
SUMMARY:Die Kronjuwelen der bayerischen König
DESCRIPTION:
DTSTART:20160529T133000
DTEND:20160529T000000
LOCATION:Kasse Residenzmuseum
ORGANIZER:Bayerische Schlösserverwaltung
END:VEVENT
END:VCALENDAR