BEGIN:VCALENDAR
VERSION:2.0
PRODID:-//Stadtgeschichte München//DE
CALSCALE:GREGORIAN
BEGIN:VEVENT
UID:11595@stadtgeschichte-muenchen.de
SUMMARY:Die beiden nördlichen Karl-Theodor-Zimmer
DESCRIPTION:
DTSTART:20160621T163000
DTEND:20160621T000000
LOCATION: Haupteingang Schloss Nymphenburg
ORGANIZER:Bayerische Schlösserverwaltung
END:VEVENT
END:VCALENDAR