BEGIN:VCALENDAR
VERSION:2.0
PRODID:-//Stadtgeschichte München//DE
CALSCALE:GREGORIAN
BEGIN:VEVENT
UID:11620@stadtgeschichte-muenchen.de
SUMMARY:Bunt sind alle meine Häuser
DESCRIPTION:München um 1900: Die &nbsp;Schwabinger Künstler‐ und &nbsp;Architekturszene&nbsp;entwirft schockierend bunte Fassaden mit bizarren&nbsp;pflanzlichen Ornamenten, während die &nbsp;restliche Stadt eher&nbsp;bieder-konservativ im historistischen Stil baut. München wird&nbsp;zu einem Zentrum der neuen Formen.Tauchen Sie ein in die&nbsp;faszinierendeWelt des Jugendstils und freuen Sie sich auf&nbsp;die „bunten Häuser”!
DTSTART:20160820T140000
DTEND:20160820T153000
LOCATION:Ecke Münchner Freiheit/   Haimhauserstraße
ORGANIZER:Münchner Bildungswerk e.V.
END:VEVENT
END:VCALENDAR