BEGIN:VCALENDAR
VERSION:2.0
PRODID:-//Stadtgeschichte München//DE
CALSCALE:GREGORIAN
BEGIN:VEVENT
UID:11662@stadtgeschichte-muenchen.de
SUMMARY:Kirche und Park
DESCRIPTION:Ein Spaziergang durch den herrlichen Park bis zur Magdalenenklause gibt Einblick in die Lebenswelt der Barockfürsten. Kurfürst Max Emanuel ist der wichtigste Bauherr der größten barocken Schlossanlage und seines riesigen Parks. Die Magdalenenklause steht jedoch für die Reue und Buße am Ende seines ausschweifenden Lebens.
DTSTART:20160817T110000
DTEND:20160817T123000
LOCATION:Schloß Nymphenburg, Haupteingang
ORGANIZER:Münchner Bildungswerk e.V.
END:VEVENT
END:VCALENDAR