BEGIN:VCALENDAR
VERSION:2.0
PRODID:-//Stadtgeschichte München//DE
CALSCALE:GREGORIAN
BEGIN:VEVENT
UID:1171@stadtgeschichte-muenchen.de
SUMMARY:Die Münchner Gründungsgeschichte auf dem Prüfstand
DESCRIPTION:&lt;p&gt;Nach allgemein verbreiteter Meinung zerst&amp;ouml;rte Heinrich der L&amp;ouml;we&amp;nbsp; den Markt und die Br&amp;uuml;cke in F&amp;ouml;hring, als er M&amp;uuml;nchen gr&amp;uuml;ndete. &lt;br /&gt; Diese Darstellung ist jedoch &amp;auml;u&amp;szlig;erst fragw&amp;uuml;rdig und wird immer h&amp;auml;ufiger als blo&amp;szlig;e Legende bezeichnet. Wie in einem Kriminalfall verfolgt&amp;nbsp; der Referent die historische Entwicklung dieser Version in der &amp;Uuml;berlieferung Freisings, arbeitet ihre inneren Widerspr&amp;uuml;che heraus und&amp;nbsp; entwickelt eine revidierte Rekonstruktion der historischen Zusammenh&amp;auml;nge. Auch bez&amp;uuml;glich des genauen Zeitpunktes der Marktgr&amp;uuml;ndung&amp;nbsp; und der Frage nach m&amp;ouml;glichen Helfern Heinrichs des L&amp;ouml;wen er&amp;ouml;ffnet&amp;nbsp; der Vortrag neue interessante Perspektiven.&lt;/p&gt;
DTSTART:20111107T200000
DTEND:20111107T213000
LOCATION:Volkshochschule Â· Gasteig Â· Rosenheimer Str. 5 Â· 
ORGANIZER:MVHS München Mitte   
END:VEVENT
END:VCALENDAR