BEGIN:VCALENDAR
VERSION:2.0
PRODID:-//Stadtgeschichte München//DE
CALSCALE:GREGORIAN
BEGIN:VEVENT
UID:1177@stadtgeschichte-muenchen.de
SUMMARY:Weibsbilder, Adelsdamen und Regelfrauen
DESCRIPTION:&lt;p&gt;H&amp;auml;ufig standen Frauen im Schatten der M&amp;auml;nner, aber dennoch haben sie ihre Spuren in M&amp;uuml;nchen hinterlassen. Auf unserem Spaziergang wollen wir uns an sie erinnern: Humorvolle Frauen, die durchaus &amp;bdquo;die Hosen anhatten&amp;ldquo;, K&amp;uuml;nstlerinnen und Volkss&amp;auml;ngerinnen, Gesch&amp;auml;ftsfrauen, die sich als Bankiers bet&amp;auml;tigten, Adelsdamen, die die politischen Geschicke Bayerns lenkten, Klosterfrauen, die ihre Aufgabe in der Erziehung und im Sozialbereich sahen oder ganz einfach Weibsbilder, Heilige oder auch Scheinheilige.&lt;/p&gt;
DTSTART:20111005T163000
DTEND:20111005T183000
LOCATION:Altes Rathaus, Eingang Spielzeugmuseum (bei der Julia-Statue) 
ORGANIZER:MVHS München Mitte   
END:VEVENT
END:VCALENDAR