BEGIN:VCALENDAR
VERSION:2.0
PRODID:-//Stadtgeschichte München//DE
CALSCALE:GREGORIAN
BEGIN:VEVENT
UID:1178@stadtgeschichte-muenchen.de
SUMMARY:Widerstand gegen den Nationalsozialismus
DESCRIPTION:&lt;p&gt;M&amp;uuml;nchen war nicht nur die Hauptstadt der nationalsozialistischen Bewegung, hier gab es auch massiven Widerstand, der von passiver Resistenz &amp;uuml;ber nonkonformes Verhalten bis zu einem sorgf&amp;auml;ltig geplanten Attentat reichte. An die bedeutendsten Menschen erinnern B&amp;uuml;cher und Filme, aber auch die anderen d&amp;uuml;rfen nicht in Vergessenheit geraten, die ihr Leben einsetzten, obwohl sie wussten, dass sie kaum Chancen hatten gegen den Nazi-Terror. Unser Rundgang erinnert an die bekannten und an die &amp;bdquo;unbesungenen&amp;ldquo; Helden des Widerstands.&lt;/p&gt; &lt;p&gt;F&amp;uuml;hrung mit Audio-Guide-System.&lt;/p&gt; &lt;p&gt;&amp;nbsp;&lt;/p&gt;
DTSTART:20111030T110000
DTEND:20111030T123000
LOCATION:Bürgersaalkirche (am Portal) Â· Neuhauserstr. 14
ORGANIZER:MVHS München Mitte   
END:VEVENT
END:VCALENDAR