BEGIN:VCALENDAR
VERSION:2.0
PRODID:-//Stadtgeschichte München//DE
CALSCALE:GREGORIAN
BEGIN:VEVENT
UID:11829@stadtgeschichte-muenchen.de
SUMMARY:Münchner Zeitensprünge
DESCRIPTION:Den Titel „Weltstadt mit Herz\" legte sich München in den 1950er Jahren zu. Noch wenige Jahre zuvor zierte sie sich mit den zweifelhaften Auszeichnungen „Hauptstadt der Bewegung\" und „Hauptstadt der Deutschen Kunst\". Im 16. und 17. Jahrhundert war sie als „Deutsches Rom\" das Zentrum der Gegenreformation. Die herzogliche, kurfürstliche und königliche Haupt- und Residenzstadt kann auf eine reichhaltige Geschichte zurückblicken. Dabei wird aber die moderne Zeit und jüngste Geschichte nicht zu kurz kommen. Diese wollen wir auf unserem Spaziergang erkunden.
DTSTART:20160516T110000
DTEND:20160516T133000
LOCATION:Mariensäule, Marienplatz
ORGANIZER:Münchner Zeitensprünge
END:VEVENT
END:VCALENDAR