BEGIN:VCALENDAR
VERSION:2.0
PRODID:-//Stadtgeschichte München//DE
CALSCALE:GREGORIAN
BEGIN:VEVENT
UID:11830@stadtgeschichte-muenchen.de
SUMMARY:Prinzregentenstraße * Eine Münchner Prachtstraße
DESCRIPTION:Auf das Jahr 1885 gehen Pläne zurück, die eine geradlinige Prachtstraße vom „Palais Royal“, dem heutigen „Prinz-Carl-Palais“, nach Osten vorsah. &nbsp; Der Groß- Bauunternehmer Jakob Heilmann führte das Projekt „Prinzregentenstraße“ aus. &nbsp; Prächtige Bauten aus verschiedenen Geschichtsepochen säumen die Straße und erzählen von längst vergangenen Zeiten, aber auch von aktuellen Ereignissen. &nbsp; Der Spaziergang führt uns vom „Prinz-Carl-Palais“ bis zum „Prinzregentenplatz“.​
DTSTART:20160526T110000
DTEND:20160526T133000
LOCATION:Prinz-Carl-Palais * Franz-Josef-Strauß-Ring 5
ORGANIZER:Münchner Zeitensprünge
END:VEVENT
END:VCALENDAR