BEGIN:VCALENDAR
VERSION:2.0
PRODID:-//Stadtgeschichte München//DE
CALSCALE:GREGORIAN
BEGIN:VEVENT
UID:11864@stadtgeschichte-muenchen.de
SUMMARY:Auf den Spuren der Wittelsbacher Kaiser
DESCRIPTION:
DTSTART:20160609T180000
DTEND:20160609T190000
LOCATION:Kassenraum
ORGANIZER:Bayerisches Nationalmuseum
END:VEVENT
END:VCALENDAR