BEGIN:VCALENDAR
VERSION:2.0
PRODID:-//Stadtgeschichte München//DE
CALSCALE:GREGORIAN
BEGIN:VEVENT
UID:11877@stadtgeschichte-muenchen.de
SUMMARY:Alter Nördlicher Friedhof
DESCRIPTION:
DTSTART:20160621T150000
DTEND:20160621T000000
LOCATION:Hauptportal, Arcisstr.
ORGANIZER:Jenkin-Jones Maria
END:VEVENT
END:VCALENDAR