BEGIN:VCALENDAR
VERSION:2.0
PRODID:-//Stadtgeschichte München//DE
CALSCALE:GREGORIAN
BEGIN:VEVENT
UID:1188@stadtgeschichte-muenchen.de
SUMMARY:Das geheimnisvolle Kreuzviertel
DESCRIPTION:&lt;p&gt;Das Kreuzviertel zwischen Neuhauser Tor und Feldherrnhalle: Es tr&amp;auml;gt diesen Namen zurecht, denn hier reiht sich Kirche an Kirche, Kloster an Kloster &amp;ndash; und heute Bank an Bank. Man nannte es auch das Eremitenviertel &amp;hellip;&lt;/p&gt;
DTSTART:20111030T153000
DTEND:20111030T173000
LOCATION:Karlstor (Stachus)
ORGANIZER:Mystisches München
END:VEVENT
END:VCALENDAR