BEGIN:VCALENDAR
VERSION:2.0
PRODID:-//Stadtgeschichte München//DE
CALSCALE:GREGORIAN
BEGIN:VEVENT
UID:11887@stadtgeschichte-muenchen.de
SUMMARY:Bavaria und Ruhmeshalle
DESCRIPTION:
DTSTART:20160703T110000
DTEND:20160703T000000
LOCATION:am Fuß der Bavaria
ORGANIZER:Jenkin-Jones Maria
END:VEVENT
END:VCALENDAR