BEGIN:VCALENDAR
VERSION:2.0
PRODID:-//Stadtgeschichte München//DE
CALSCALE:GREGORIAN
BEGIN:VEVENT
UID:11888@stadtgeschichte-muenchen.de
SUMMARY:Kirche und Adel - Die Kirchen der Residenz
DESCRIPTION:&nbsp; &nbsp; &nbsp; &nbsp; &nbsp; &nbsp;
DTSTART:20160710T150000
DTEND:20160710T000000
LOCATION:Kassenvorraum Residenz, beim Modell
ORGANIZER:Jenkin-Jones Maria
END:VEVENT
END:VCALENDAR