BEGIN:VCALENDAR
VERSION:2.0
PRODID:-//Stadtgeschichte München//DE
CALSCALE:GREGORIAN
BEGIN:VEVENT
UID:1189@stadtgeschichte-muenchen.de
SUMMARY:Schauriges München â€“ die dunkle Seite der Stadt
DESCRIPTION:&lt;p&gt;Die leuchtende Stadt, voller Licht und Leben! So kennen und lieben wir M&amp;uuml;nchen mit seinen weiten Pl&amp;auml;tzen, prunkvollen Pal&amp;auml;sten und Boulevards. Doch es gibt auch die andere, die dunkle Seite der Stadt &amp;hellip;&lt;/p&gt;
DTSTART:20111030T173000
DTEND:20111030T193000
LOCATION:Frauenkirche (vor dem Haupteingang)
ORGANIZER:Mystisches München
END:VEVENT
END:VCALENDAR