BEGIN:VCALENDAR
VERSION:2.0
PRODID:-//Stadtgeschichte München//DE
CALSCALE:GREGORIAN
BEGIN:VEVENT
UID:11894@stadtgeschichte-muenchen.de
SUMMARY:Stadtrundgang Lehel
DESCRIPTION:
DTSTART:20160723T110000
DTEND:20160723T000000
LOCATION:vor der Klosterkirche St. Anna im Lehel	
ORGANIZER:Jenkin-Jones Maria
END:VEVENT
END:VCALENDAR