BEGIN:VCALENDAR
VERSION:2.0
PRODID:-//Stadtgeschichte München//DE
CALSCALE:GREGORIAN
BEGIN:VEVENT
UID:11895@stadtgeschichte-muenchen.de
SUMMARY:Zum Magdalenenfest: Maria Magdalena im Kreis von Heiligen
DESCRIPTION:
DTSTART:20160724T140000
DTEND:20160724T000000
LOCATION:Kasse Neues Schloss Schleißheim
ORGANIZER:Jenkin-Jones Maria
END:VEVENT
END:VCALENDAR