BEGIN:VCALENDAR
VERSION:2.0
PRODID:-//Stadtgeschichte München//DE
CALSCALE:GREGORIAN
BEGIN:VEVENT
UID:11898@stadtgeschichte-muenchen.de
SUMMARY:Blick über den Zaun - Höfe, Gärten und Parks in Sendling
DESCRIPTION:
DTSTART:20160730T150000
DTEND:20160730T000000
LOCATION:Ecke Albert-Roßhaupter-Str. 8/Meindlstr.
ORGANIZER:Jenkin-Jones Maria
END:VEVENT
END:VCALENDAR