BEGIN:VCALENDAR
VERSION:2.0
PRODID:-//Stadtgeschichte München//DE
CALSCALE:GREGORIAN
BEGIN:VEVENT
UID:11899@stadtgeschichte-muenchen.de
SUMMARY:Kriegersiedlung in Sendling
DESCRIPTION:
DTSTART:20160806T150000
DTEND:20160806T000000
LOCATION:Wirtshaus in Sendling, Albert-Roßhaupter-Str. 61
ORGANIZER:Jenkin-Jones Maria
END:VEVENT
END:VCALENDAR