BEGIN:VCALENDAR
VERSION:2.0
PRODID:-//Stadtgeschichte München//DE
CALSCALE:GREGORIAN
BEGIN:VEVENT
UID:119@stadtgeschichte-muenchen.de
SUMMARY:Ludwig II.
DESCRIPTION:&lt;p&gt;Seit nunmehr 125 Jahren wird &amp;uuml;ber den ungekl&amp;auml;rten Tod Ludwigs II. im Starnberger See ger&amp;auml;tselt. Ein verschuldeter, abgesetzter K&amp;ouml;nig starb - ein Mythos wurde geboren. Der &amp;bdquo;Kini&amp;quot;, der zu Lebzeiten gerne in Fantasiewelten floh und immer menschenscheuer wurde, ist auch heute noch der Mittelpunkt von Theorien und Ger&amp;uuml;chten aller Art, Kitsch und Kommerz. Wenn es um Bayern geht, ist er stets allgegenw&amp;auml;rtig. Auch in M&amp;uuml;nchen? Auf unserem Rundgang durch die Stadt wollen wir nachsehen, welche Spuren er in &amp;bdquo;seiner&amp;quot; Haupt- und Residenzstadt hinterlassen hat, welche Chancen M&amp;uuml;nchen vertan und welche Rolle die Stadt bei Ludwigs Werdegang zum r&amp;auml;tselhaften M&amp;auml;rchenk&amp;ouml;nig gespielt hat. MW-Karte f&amp;uuml;r 2 Zonen wird ben&amp;ouml;tigt.&lt;/p&gt;
DTSTART:20110605T140000
DTEND:20110605T160000
LOCATION:St. Michael, am Portal Neuhauser Str. 
ORGANIZER:MVHS München Mitte   
END:VEVENT
END:VCALENDAR