BEGIN:VCALENDAR
VERSION:2.0
PRODID:-//Stadtgeschichte München//DE
CALSCALE:GREGORIAN
BEGIN:VEVENT
UID:11905@stadtgeschichte-muenchen.de
SUMMARY:Schloss Fürstenried: der wunderbare Garten des psychisch kranken Königs Otto
DESCRIPTION:Im späten 19. Jahrhundert erlangte das ehemalige Jagdschloss Fürstenried traurige Berühmtheit, weil hier Bayerns kranker König Otto verwahrt wurde. Anders als das Interieur des Schlosses blieb der dazugehörige Barockgarten unverändert erhalten. Ab 1880 wurde er durch Carl von Effner nach dem Geschmack der Gründerzeit erweitert. Wir entdecken kostbare alte Bäume, Laubengänge, Brunnenskulpturen und erklimmen den künstlichen Hügel zur ehemaligen Sicht auf die Alpenkette. Unsere Erkundung befasst sich auch mit der ursprünglichen barocken Nutzung. Anmeldung bei der VHS München unter C1247764 oder Zahlung vor Ort. &nbsp; &nbsp; &nbsp; &nbsp;
DTSTART:20160626T160000
DTEND:20160626T173000
LOCATION:Hoftor, Forst-Kasten-Allee 103
ORGANIZER:
END:VEVENT
END:VCALENDAR