BEGIN:VCALENDAR
VERSION:2.0
PRODID:-//Stadtgeschichte München//DE
CALSCALE:GREGORIAN
BEGIN:VEVENT
UID:1191@stadtgeschichte-muenchen.de
SUMMARY:Das machtvolle Graggenauer Viertel
DESCRIPTION:&lt;p&gt;Zwischen Odeonsplatz und Isartor erstreckt sich das Viertel mit dem seltsamen Namen Graggenau &amp;ndash; die &amp;bdquo;Au der Kr&amp;auml;hen&amp;ldquo;. Schon immer war dies der Fleck in M&amp;uuml;nchen, von dem aus die Herrscher ihre Macht etablierten &amp;hellip;&lt;/p&gt;
DTSTART:20111120T153000
DTEND:20111120T173000
LOCATION:Feldherrnhalle (Odeonsplatz)
ORGANIZER:Mystisches München
END:VEVENT
END:VCALENDAR